Workbook

Sheet Sheet1
A1: Company | D1: FirstName | E1: LastName
A2: Adair | B2: County | C2: Adair County | D2: Kent | E2: Bryant | F2: =CONCATENATE(D2," ",E2) -> Kent Bryant | J2: =INDEX(F:F,MATCH('Page 1'!B11,C:C,0)) -> Julia Baker
A3: Andrew | B3: County | C3: Andrew County | D3: Paul | E3: Garrison | F3: =CONCATENATE(D3," ",E3) -> Paul Garrison
A4: Atchison | B4: County | C4: Atchison County | D4: Rochelle | E4: Long | F4: =CONCATENATE(D4," ",E4) -> Rochelle Long
A5: Audrain | B5: County | C5: Audrain County | D5: Melissa | E5: Maupin | F5: =CONCATENATE(D5," ",E5) -> Melissa Maupin
A6: Barry | B6: County | C6: Barry County | D6: Sherry | E6: Smith | F6: =CONCATENATE(D6," ",E6) -> Sherry Smith
A7: Barton | B7: County | C7: Barton County | D7: Chad | E7: Johnson | F7: =CONCATENATE(D7," ",E7) -> Chad Johnson
A8: Bates | B8: County | C8: Bates County | D8: Carl | E8: Bettels | F8: =CONCATENATE(D8," ",E8) -> Carl Bettels
A9: Benton | B9: County | C9: Benton County | D9: Jim | E9: Hansen | F9: =CONCATENATE(D9," ",E9) -> Jim Hansen
A10: Bollinger | B10: County | C10: Bollinger County | D10: Ronda | E10: Elfrink | F10: =CONCATENATE(D10," ",E10) -> Ronda Elfrink
A11: Boone | B11: County | C11: Boone County | D11: Kenneth M. | E11: Mohr | F11: =CONCATENATE(D11," ",E11) -> Kenneth M. Mohr
A12: Buchanan | B12: County | C12: Buchanan County | D12: Dean | E12: Wilson | F12: =CONCATENATE(D12," ",E12) -> Dean Wilson
A13: Butler | B13: County | C13: Butler County | D13: Chris | E13: Rickman | F13: =CONCATENATE(D13," ",E13) -> Chris Rickman
A14: Caldwell | B14: County | C14: Caldwell County | D14: Tracy | E14: Bowen | F14: =CONCATENATE(D14," ",E14) -> Tracy Bowen
... A115: Wright | B115: County | C115: Wright County | D115: Rachel | E115: Willhite | F115: =CONCATENATE(D115," ",E115) -> Rachel Willhite
A116: City of St. Louis | C116: City of St. Louis | D116: Shawn | E116: Ordway | F116: =CONCATENATE(D116," ",E116) -> Shawn Ordway
A118: p1l2a3n

Sheet Yr 1 STC ApplLetter-FinalBudget
A1: ='Page 1'!B11 -> Gasconade County | W1: Revised:
A2: Page 1 2026-Approval Letter & Final Budget
A56: =A1 -> Gasconade County | W56: Revised:
A57: Page 2 2026-Approval Letter & Final Budget
A111: =A1 -> Gasconade County | W111: Revised:
A112: Page 3 2026-Approval Letter & Final Budget
A166: =A1 -> Gasconade County | W166: Revised:
A167: Page 4 2026-Approval Letter & Final Budget
A221: ='Page 1'!B11 -> Gasconade County | W221: Revised:
A222: Page 5 2026-Approval Letter & Final Budget

Sheet Plan Letter
A1: ='Page 1'!B11&"'s Plan Letter" -> Gasconade County's Plan Letter
A3: Insert county plan letter here

Sheet Page 1
B6: 2026-2027 | N6: Assessment Maintenance Plan
B11: Gasconade County
B15: ="January 1, "&LEFT(B6,4)&" through December 31, "&RIGHT(B6,4) -> January 1, 2026 through December 31, 2027
G18: PLAN LETTER
G20: Page 2 - OATH, MISSION STATEMENT, OBJECTIVE, AND GOAL
G22: Page 3 - APPROVALS
G24: Page 4 - DEFINITIONS
G26: Pages 5-9 - FUNCTIONS AND RESPONSIBILITIES
G28: Page 10 - CHARTS AND REPORTS
G30: Page 11 - FORMS TO BE UTILIZED
G32: Page 12 - INSTRUCTIONS
G34: Pages 12-16 - PHASE CHARTS AND EMPLOYEE SCHEDULE
G36: YEAR 1 - APPROVAL LETTER AND BUDGET
G38: YEAR 2 - APPROVAL LETTER AND BUDGET
G40: RESIDENTIAL DECISION MODEL
... G46: COMMERCIAL FINAL STUDY
S73: January 1, 2018 Through December 31,2019 | AM73: 2018-2019
S74: January 1, 2020 Through December 31,2021 | AM74: 2020-2021
S75: January 1, 2022 Through December 31,2023 | AM75: 2022-2023
S76: January 1, 2024 Through December 31,2025 | AM76: 2024-2025
S77: January 1, 2026 Through December 31,2027 | AM77: 2026-2027
S78: January 1, 2028 Through December 31,2029 | AM78: 2028-2029

Sheet Page 2
A1: ='Page 1'!B6 &" Assessment Maintenance Plan" -> 2026-2027 Assessment Maintenance Plan
A4: ="I, " &Sheet1!J2& ", the duly elected " & 'Page 1'!B11 & " Assessor, submit the following assessment maintenance plan for the " & 'Page 1'!B6 & " assessment maintenance cycle. This plan contains the framework and all of the necessary elements to allow me to carry out my official duties as required by the Missouri Constitution and laws of the State of Missouri." -> I, Julia Baker, the duly elected Gasconade County Assessor, submit the following assessment maintenance plan for the 2026-2027 assessment maintenance cycle. This plan contains the framework and all of the necessary elements to allow me to carry out my official duties as required by the Missouri Constitution and laws of the State of Missouri.
A10: Assessor Oath
A13: Every Assessor shall take an oath or affirmation to support the Constitution of the United States and of this state, and to demean himself faithfully in office and to assess all of the real and tangible personal property in the county in which he assesses at what he believes to be the actual cash value. He shall endorse this oath on his certificate of election or appointment before entering upon the duties of his office. Section 53.030, RSMo.
A19: Mission Statement
A22: ="The " & 'Page 1'!B11 & " Assessor and State Tax Commission shall strive to assess all property in a fair and uniform manner; shall strive to discover, list, and assess all taxable property within the county; shall faithfully and" -> The Gasconade County Assessor and State Tax Commission shall strive to assess all property in a fair and uniform manner; shall strive to discover, list, and assess all taxable property within the county; shall faithfully and
A24: impartially execute this assessment maintenance plan; shall develop assessments based on current market value as of the date of appraisal; shall promptly and efficiently respond to questions, complaints, and needs of taxpayers and assessment officers; and shall uphold the Missouri Constitution and statutes of the State of Missouri.
A29: Objective
A32: The objective of the Maintenance Plan is to outline how the Assessor is going to maintain assessments for both real and personal property. The Assessor is required to annually assess all personal property and assess all real property as of January first of each odd year and complete the duties as outlined on pages 3, 4, 5, etc. of this plan.
A38: Goal
A41: The goal of the Assessor is to fulfill the legal responsibilities of the Office of the Assessor as outlined in Article X of the Missouri Constitution, and Chapters 53, 137, and 138, RSMo.
A45: 2

Sheet Page 3
A1: ='Page 1'!B6&'Page 1'!N6 -> 2026-2027 Assessment Maintenance Plan
A4: Agreement and Approval
A6: The parties to this plan, the County Assessor, the County Commission, and the State Tax Commission, agree to its specific terms as well as these general obligations:
D9: The Assessor will assess all taxable property in the county uniformly and at the statutorily required percentage of market value for the respective property. The actions of the Assessor and staff will comply with the requirements found in Article X, Section 3 of the Missouri Constitution, Chapters 53, 137, 138, RSMo, and any other pertinent chapters of the Revised Statutes of Missouri.
D14: The County will provide office facilities and the budgetary support, as set out in this agreement, to allow the Assessor and staff to carry out the terms of this agreement and the duties of the Assessor's Office.
D18: The State Tax Commission will provide technical assistance, including regular visits by the field representative, educational training, guidelines, and other resources to aid the assessor in the execution of this plan. Further, in consideration for the Assessor supplying assessment services in compliance with the terms and obligations of this plan, the state will provide cost-share reimbursement funds to the extent specified in Section 137.750, RSMo. Failure to comply with this maintenance plan may result in cost-share reimbursement funds being withheld.
A24: It is hereby affirmed by the County, that an Assessment Fund has been established, and that the general revenue funds required of this plan will be deposited into the Assessment Fund.
A27: The undersigned approve and submit this plan.
A29: ='Page 1'!B11 & ", Missouri" -> Gasconade County, Missouri | W29: State Tax Commission of Missouri
A34: County Assessor Date | W34: STC Chairman Date
A38: Presiding Commissioner Date | W38: STC Commissioner Date
A42: County Commissioner Date | W42: STC Commissioner Date
A46: County Commissioner Date
A47: 3

Sheet Page 3 Signed
A1: ='Page 1'!B11 -> Gasconade County | W1: Revised:
A2: Page 3/Signatures
A3: Insert "Page 3 Signed" by County Commissioners and Assessor

Sheet Sheet2

Sheet Sheet3

Sheet Sheet4

Sheet Pg 3 Assr, Cty Com, STC Signoff
A1: ='Page 1'!B11 -> Gasconade County | W1: Revised:
A2: Page 3/Signatures
A3: Insert "Page 3 Signed" by County Commissioners, Assessor and STC Commissioners

Sheet Page 4 
A1: Definitions
A3: As used in this agreement the following words shall have this meaning attributed to them in this subsection:
A4: 1. | C4: =" The word ""County"" means " & 'Page 1'!B11 & ", Missouri." -> The word "County" means Gasconade County, Missouri.
A6: 2. | C6: The word "Commission" means the State Tax Commission of Missouri.
A8: 3. | C8: The words “Market Value” means the most probable price in terms of money which a property will bring if exposed for sale on the open market for a reasonable length of time, providing there is a knowledgeable buyer and seller both aware of the uses to which a property is adapted and for which it is capable of being used. Used synonymously with True Value in Money and actual cash value.
A13: 4. | C13: For land used for agricultural purposes, the words “Market Value” or “True Value in Money” shall mean the value the land has for agricultural and horticultural use, which is based upon the land’s productive capability as set out in Sections 137.017 - 137.021, RSMo.
A17: 5. | C17: The words “Project,” “Plan,” or “Agreement” shall mean the assessment maintenance plan.
A19: 6. | C19: The words “Ownership Maps" or "Mapping” means all ownership maps and related records which are prepared or compiled by the County under the guidelines of the original mapping contract or a more current mapping/GIS project.
A23: 7. | C23: The words “Replacement Cost New (RCN)” means the cost, including material, labor, and overhead, that would be incurred in constructing an improvement having the same utility to its owner as the improvement in question, without necessarily reproducing exactly any particular characteristic of the property.
A27: 8. | C27: The word “Depreciation” means the loss in value of an object, relative to its replacement cost new, whether the loss of value is caused by physical deterioration, economic obsolescence, or functional obsolescence.
A30: 9. | C30: The words “Physical Deterioration” means the loss of value caused by wear and tear.
A32: 10. | C32: The words “Economic Obsolescence” means the loss in value of a property (relative to the cost of replacing it with a property of equal utility) that stems from factors external to the property.
A35: 11. | C35: The words “Functional Obsolescence” means the loss in value of a property resulting from changes in tastes, preferences, technical innovations, or market standards.
A38: 12. | C38: The words “Submitted to Commission" for reports or PRC cards means mailing paper copies or emailing digital PDF or TIF files to localassistance@stc.mo.gov
A40: 13. | C40: The words “Index Study” are synonymous with “Manual Level Study.”
A41: 14. | C41: =CONCATENATE("The words 'Sales Ratio Report' means the current year's (",LEFT('Page 1'!B6,4)-1,") sales ratio data and the two previous years sales ratio data, ran separately; and three years combined for all four ","reports to be submitted to the State Tax Commission by the deadlines on Page 6, Number 7. This is a bi-annual report prepared and submitted by the assessor.") -> The words 'Sales Ratio Report' means the current year's (2025) sales ratio data and the two previous years sales ratio data, ran separately; and three years combined for all four reports to be submitted to the State Tax Commission by the deadlines on Page 6, Number 7. This is a bi-annual report prepared and submitted by the assessor.
A44: 4

Sheet Page 5 
A1: ='Page 1'!B11 -> Gasconade County | W1: Revised:
A2: Real Property
A4: FUNCTIONS AND RESPONSIBILITIES
A6: Responsibility | W6: Job Title and Comments
A8: 1. | C8: Public information and public relations - ongoing. | W8: Assessor and/or Staff
A10: 2. | C10: Update all property transfers on the digitized maps, map work cards, and/or other related forms. Complete on a quarterly or monthly basis. Ownership data will be | W10: Assessor and/or Staff
C14: maintained to within | K14: 3 | N14: months.
A16: 3. | C16: Sales information. Obtain, verify, and log valid sales information from all sale letters. Scan and attach sales letter to parcel information in CAMA system. Other sources may include certificates of value, real estate agents, appraisers, banks and savings & loans, etc. All sales information will be available for review and use by the Commission. | W16: Assessor and/or Staff
A24: 4. | C24: Building Costs. Obtain and verify current building costs. The new construction log will be utilized to identify and locate new construction samples. | W24: Assessor and/or Staff
A28: 5. | C28: Conduct sales analysis of all valid sales. Studies will be conducted to determine the base rates for building costs, land values, and rates of depreciation-both physical and obsolescence. | W28: Assessor and/or Staff
A33: A) | C33: ="Building Cost Index for "&AV33&". An index study/manual level study will be completed and" -> Building Cost Index for 2027. An index study/manual level study will be completed and | W33: Assessor and/or Staff | AV33: =RIGHT('Page 1'!B6,4) -> 2027 | AW33: =LEFT('Page 1'!B6,4) -> 2026
C36: submitted to the Commission by | O36: 8 | Q36: - | R36: 30 | T36: - | U36: 2026
C37: ="for their review and approval. The study will include PRC copies of all index samples." -> for their review and approval. The study will include PRC copies of all index samples.
A39: B) | C39: Depreciation studies will be completed and | W39: Assessor and/or Staff
C41: submitted to the Commission by | O41: 8 | Q41: - | R41: 30 | T41: - | U41: 2026
C42: for review and comment. In addition, studies will be conducted by neighborhood or other strata to identify obsolescence.
A45: 5

Sheet Page 6 
A1: ='Page 1'!B11 -> Gasconade County | W1: Revised:
A3: Real Property
A6: FUNCTIONS AND RESPONSIBILITIES
A9: Responsibility | W9: Job Title and Comments
A12: C) | C12: Land value studies will be conducted by neighborhood and land rates will be established which, when properly applied, result in a fair and reasonable land value for parcels assessed at market value. These studies will be submitted to the Commission for | W12: Assessor and/or Staff
C17: review and comment by | K17: 8 | M17: - | N17: 30 | P17: - | Q17: 2026 | BC17: =RIGHT('Page 1'!B6,45) -> 2026-2027 | BD17: =LEFT('Page 1'!B6,4) -> 2026 | BE17: =RIGHT(BC17,4) -> 2027
A18: 6. | C18: ="Complete interim untrended index study or preliminary manual level study, based on additional average quality, new construction, to be completed and submitted to the Commission by October 1, " &BE17 &"." -> Complete interim untrended index study or preliminary manual level study, based on additional average quality, new construction, to be completed and submitted to the Commission by October 1, 2027. | W18: Assessor and/or Staff
A24: 7. | C24: Sales Ratio Reports to be submitted to the State Tax Commission, as defined on Page 4, Number 14. Will be conducted by neighborhood or other strata. The object being to determine the relative level of assessment between the county’s appraised value and the sale price of the sold property. Complete on a bi-annual basis and generate summary by neighborhood or strata, listing the number of sales, the low, high, mean, median and weighted mean ratios, C.O.D., P.R.D., and the time-frame of the sales used within the study. Reports are to be submitted to the Commission by March 1st and September 1st of each year. | W24: Assessor and/or Staff
A35: 8. | C35: ="Recalculate all proposed " & BE17& " land values and improvement costs, up to replacement cost new prior to conducting field" -> Recalculate all proposed 2027 land values and improvement costs, up to replacement cost new prior to conducting field | W35: Assessor and/or Staff
C38: ="review, to be completed by" -> review, to be completed by | L38: 8 | N38: / | O38: 30 | Q38: / | R38: 2026
A40: ="If your county’s " &BD17-3 &" Residential and/or Commercial Ratio Study were out of compliance and having a median ratio below 89.99%, a more detailed narrative shall be attached to this " &'Page 1'!B6 & " plan detailing specific action(s) in steps 9A – 9H to bring the county in compliance." -> If your county’s 2023 Residential and/or Commercial Ratio Study were out of compliance and having a median ratio below 89.99%, a more detailed narrative shall be attached to this 2026-2027 plan detailing specific action(s) in steps 9A – 9H to bring the county in compliance.
A44: ="If your county's "&LEFT('Page 1'!B6,4)-1&" residential sales study or the county's most recent commercial appraisal study were out of compliance (having a median ratio below 90% of market value), "&"the county shall follow steps 9A-9H W24 while complying with the requirements of Section 137.115, RSMo, and Article X of the Missouri Constitution."&" Guidance for complying with Section 137.115, RSMo, may be found in Chapter 2 of the Assessors' Manual." -> If your county's 2025 residential sales study or the county's most recent commercial appraisal study were out of compliance (having a median ratio below 90% of market value), the county shall follow steps 9A-9H W24 while complying with the requirements of Section 137.115, RSMo, and Article X of the Missouri Constitution. Guidance for complying with Section 137.115, RSMo, may be found in Chapter 2 of the Assessors' Manual.
A48: 9. | C48: Conduct final field review. | W48: Assessor and/or Staff
A50: A) | C50: Inspect recently sold properties to establish bench marks. Update neighborhood sales analysis. Incremental adjustments of index/manual level, neighborhood factors, special units, condition adjustments, site improvement values, etc. will be implemented, if necessary, and using assessors knowledge of said neighborhoods to determine if the market value determined in the sales analysis is an accurate reflection of actual market value in Gasconade County. | W50: Assessor and/or Staff
A60: 6

Sheet Page 7 
A1: ='Page 1'!B11 -> Gasconade County | W1: Revised:
A2: Real Property
A4: FUNCTIONS AND RESPONSIBILITIES
A6: Responsibility | W6: Job Title and Comments
A9: B) | C9: Review, data collect, and photograph all new improvements and additions. | W9: Assessor and/or Staff
A12: C) | C12: Review changes resulting from mapping splits or combinations. | W12: Assessor and/or Staff
A15: D) | C15: Verify accuracy of all physical data, quality grades of improvements, and subclassification of land and improvements. Property records will be updated to reflect changes or to correct errors. Take new photographs if none exists, or the improvement’s condition has substantially changed. This includes digital submission program available to Gasconade County property owners to digitally submit, using our app, updated photos of all structures on the property. | W15: Assessor and/or Staff
A22: E) | C22: Review land value and apply adjustments as needed. | W22: Assessor and/or Staff
A25: F) | C25: Assign depreciation to improvements. Depreciation will be assigned to reflect the physical condition and obsolescence applied (whether economic or functional) as needed, to ensure the final value reflects current local market conditions. Notes will be listed in the CAMA system to explain any adjustments. | W25: Assessor and/or Staff
A32: G) | C32: Adjust agricultural land grades where required, changing the agricultural maps and property record cards accordingly. | W32: Assessor and/or Staff
AY33: =AY34-1 -> 2025
AX34: =LEFT('Page 1'!B6,4) -> 2026 | AY34: =LEFT(AX34,4) -> 2026
AY35: =AY33-1 -> 2024
A36: H) | C36: Update review date on property using CAMA system and offline mobile unit software. | W36: Assessor and/or Staff
AX37: =RIGHT('Page 1'!B6,5) -> -2027 | AY37: =LEFT(AX37,4) -> -202
A38: 10. | C38: Complete final calculations following field review, data entry, and finalize your estimate of market value. | W38: Assessor and/or Staff
A42: 11. | C42: *N/A for Gasconade County as we do not use the Income Approach on commercial property. * Obtain and verify income and expense information for commercial property. Review records for "&AY35&", "&AY33&", and "&AY34&"." | W42: Assessor and/or Staff
A46: 12. | C46: *N/A for Gasconade County as we do not use the Income Approach on commercial property. *Develop appropriate capitalization rates for income producing properties and calculate their values by the income approach. | W46: Assessor and/or Staff
A50: 13. | C50: Prepare notices to taxpayers for increases in value, by June 15th annually. | W50: Assessor and/or Staff
A53: 7

Sheet Page 8 
A1: ='Page 1'!B11 -> Gasconade County | W1: Revised:
A2: Real Property
A4: FUNCTIONS AND RESPONSIBILITIES
A6: Responsibility | W6: Job Title and Comments
A9: 14. | C9: Conduct informal meetings with taxpayers, | W9: Assessor and/or Staff
C10: completed by July 1st annually.
A11: 15. | C11: Prepare for and defend values at board of equalization annually. | W11: Assessor and/or Staff
A13: 16. | C13: Complete the real property assessment roll by July 1st annually, Section 137.245, RSMo. | W13: Assessor and/or Staff
A16: 17. | C16: Submit electronic copy of assessment roll to the Commission for parcel count by July 1st annually. | W16: Assessor and/or Staff
A19: 18. | C19: Submit electronic file of appraisal/building data to Commission for ratio study by August 1st of odd numbered years. | W19: Assessor and/or Staff
A23: 19. | C23: Provide electronic file of previous two years sales to Commission for ratio study April 15th of even numbered year. | W23: Assessor and/or Staff
A27: 20. | C27: ="If the county is under an Equalization Order by the State Tax Commission, the order shall be part of the " &'Page 1'!B11&" Maintenance Plan." -> If the county is under an Equalization Order by the State Tax Commission, the order shall be part of the Gasconade County Maintenance Plan. | W27: Assessor
A34: 21. | C34: Submit completed electronic file of Yearly Totals for Mapping Transactions, Sales Letters, Livestock Values, Informal Hearings and BOE Totals, and Personal Property Totals to the State Tax Commission for January - July by September 1st and August - December by April 15th annually. | W34: Assessor and/or Staff
A45: 8

Sheet Page 9 
A1: ='Page 1'!B11 -> Gasconade County | W1: Revised:
A2: Personal Property
A4: FUNCTIONS AND RESPONSIBILITIES
A6: Responsibility | W6: Job Title and Comments
A9: 1. | C9: Submit County Personal Property and Business Personal Property Assessment List for the following year to the State Tax Commission by November 20th annually for approval. | W9: Assessor and/or Staff
A14: 2. | C14: Mail State Tax Commission approved personal property assessment forms by February 1st annually. | W14: Assessor and/or Staff
A18: 3. | C18: Process railroad and utility returns for appraisal of locally assessed property by April 20th annually. | W18: Assessor and/or Staff
A21: 4. | C21: Process State Tax Commission approved personal property assessment forms. | W21: Assessor and/or Staff
A24: 5. | C24: Prepare second notice to taxpayers whose assessment list has not been received by April 1st annually. Track and log late lists, penalties, and waivers. | W24: Assessor and/or Staff
A29: 6. | C29: Complete the personal property assessment roll by July 1st annually, Section 137.245, RSMo. | W29: Assessor and/or Staff
A34: 9

Sheet  Page 10 
A1: ='Page 1'!B11 -> Gasconade County | W1: Revised:
A2: Charts and Reports
A4: ='Page 11 '!AX6 &" intends to incorporate the following forms into the plan. All applicable forms should be available for review upon request by the State Tax Commission." -> Gasconade County intends to incorporate the following forms into the plan. All applicable forms should be available for review upon request by the State Tax Commission.
W6: Date Available
C9: Parcel Count. All parcels, both taxable and exempt, including manufactured homes on leased land, REC’s, CATV’s, and other unmapped parcels where applicable. | W9: Assessment Roll is to be submitted to the State Tax Commission by July 1st annually, Section 137.245, RSMo
A10: A.
A14: B. | C14: ="Approved budget through December 31, "&' Page 10 '!AY15&"." -> Approved budget through December 31, 2027. | W14: when available
AW15: ='Page 1'!B6 -> 2026-2027 | AX15: =LEFT(AW15,4) -> 2026 | AY15: =RIGHT(AW15,4) -> 2027
A16: C. | C16: ="Phase charts through December 31, "&' Page 10 '!AY15&"." -> Phase charts through December 31, 2027. | W16: when available
A18: D. | C18: ="Personnel Estimation Chart through December 31, "&' Page 10 '!AY15&"." -> Personnel Estimation Chart through December 31, 2027. | W18: when available
A21: E. | C21: ="Employment Schedule through December 31, "&' Page 10 '!AY15&"." -> Employment Schedule through December 31, 2027. | W21: when available
A23: F. | C23: Organization Chart to show overall responsibility and accountability. | W23: when available
A26: G. | C26: Duties and responsibilities itemized for each personnel position. | W26: when available
A29: I. | C29: ="Abated property report. To be submitted by November 1, "&' Page 10 '!AY15&"." -> Abated property report. To be submitted by November 1, 2027. | W29: when available
A32: J. | C32: Annual Computer Inventory. A summary of disk usage by system users, and anticipated maintenance costs expected for the year. To be submitted by March 31st annually. | W32: when available
A37: It is recommended a training outline for all personnel and a detailed field manual for data collectors be maintained in the assessor's office.
A43: 10

Sheet Page 11 
A1: ='Page 1'!B11 -> Gasconade County | W1: Revised:
A2: FORMS TO BE UTILIZED
A4: ='Page 11 '!AX6 &" intends to incorporate the following forms into the plan. All applicable forms should be available for review upon request by the State Tax Commission." -> Gasconade County intends to incorporate the following forms into the plan. All applicable forms should be available for review upon request by the State Tax Commission.
W6: Date Available | AX6: ='Page 1'!B11 -> Gasconade County
A8: A. | C8: Sales Questionnaire/Letter for mailing | W8: when available
AW9: ='Page 1'!B6 -> 2026-2027 | AX9: =LEFT(AW9,4) -> 2026 | AY9: =RIGHT(AW9,4) -> 2027
A10: B. | C10: *N/A*Income and Expense Forms | W10: when available
A12: C. | C12: Assessment Change Notice | W12: when available
A14: D. | C14: Informal Hearing Forms | W14: when available
A16: E. | C16: Board of Equalization Forms | W16: when available
A18: F. | C18: Split Tax Statement Forms | W18: when available
A20: G. | C20: Statistical Analysis Forms/Reports | W20: when available
A22: H. | C22: Data Verification Forms/Letters for New Construction | W22: when available
A24: I. | C24: New Construction Log | W24: when available
A26: J. | C26: Project Control Log to track different phases by map sheet | W26: when available
A29: K. | C29: Map Count Log to track parcel counts by Map Sheet | W29: when available
A32: L. | C32: Real Estate and Personal Property Assessment Roll | W32: when available
A35: M. | C35: Individual and Business Personal Property Lists | W35: when available
A37: N. | C37: Second Notice for Non-Returned Assessment Lists | W37: when available
A39: COUNTY MAY LIST ADDITIONAL FORMS UTILIZED (OPTIONAL)
A41: O. | W41: =IF(ISBLANK(C41)," ","December 31, "&AX9-1)
A43: P. | W43: =IF(ISBLANK(C43)," ","December 31, "&AX9-1)
A45: Q. | W45: =IF(ISBLANK(C45)," ","December 31, "&AX9-1)
A47: R. | W47: =IF(ISBLANK(C47)," ","December 31, "&AX9-1)
A49: S. | W49: =IF(ISBLANK(C49)," ","December 31, "&AX9-1)
A51: T. | W51: =IF(ISBLANK(C51)," ","December 31, "&AX9-1)
A53: U. | W53: =IF(ISBLANK(C53)," ","December 31, "&AX9-1)
A55: V. | W55: =IF(ISBLANK(C55)," ","December 31, "&AX9-1)
A57: W. | W57: =IF(ISBLANK(C57)," ","December 31, "&AX9-1)
A59: X. | W59: =IF(ISBLANK(C59)," ","December 31, "&AX9-1)
A61: Y. | W61: =IF(ISBLANK(C61)," ","December 31, "&AX9-1)
A63: Z. | W63: =IF(ISBLANK(C63)," ","December 31, "&AX9-1)
A65: 11

Sheet Page 12 - 15 Instructions
A1: Definitions and Instructions - Page 12 - Page 15
A2: 1. | B2: The Phase Charts on Page 12 and Page 14 break down the monthly work schedule for each item to be completed by the Assessor's Office. Page 12 is for the even year. Page 14 is for the odd year.
A4: 2. | B4: Page 13 and Page 15 provides the number of employees estimated to complete each project per month and the average number of employees in the Assessor's Office.
A6: 3. | B6: There are 52 weeks in a calendar year. The Phase Chart is based on 48 weeks, allowing 4 weeks of vacation, medical leave, and holidays.
A8: 4. | B8: Administration - Is the list of the Assessor's Office work.
A9: 5. | B9: Number of Parcels - An estimation of the amount of parcels estimated for the tasks.
A10: 6. | B10: Standard Level of Production - Number of items that can be done by one worker in one day. This is a required field to be complete for the following phases: Change Notices, Public Traffic, Processing Transfers, Map/GIS, Sales Letters, Sales Data Entry, New System Data Entry RP (if applicable), New Const Field Review, New Const Data Entry/Cal, New Const Office Review, Preliminary Calculations, Final Field Review, Final Data Entry/Cal., Final Office Review, PP Prepare/Mail, PP 2nd Notices, Process PP Lists, PP Data Entry, Informal Hearings, and BOE Hearings.
A16: 7. | B16: RP is the abbreviation for Real Property.
A17: 8. | B17: PP is the abbreviation for Personal Property.
A18: 9. | B18: Const. is the abbreviation for Construction.
A19: 10. | B19: Cal. is the abbreviation for Calculation.
A20: 11. | B20: Each box represents 1 week or 5 working days.
A21: 12. | B21: Enter x or X in each box for the week the work will be completed.
A22: 13. | B22: Upon entering the Number of Parcels, the Standard Level of Production, and x or X, the form will auto calculate and auto populate the corresponding week box for the work task on Page 13 and Page 15 respectively.

Sheet Page 12 PC1YR
A1: ='Page 1'!B11 -> Gasconade County | W1: Revised: | AS1: Phase Chart Year: | BD1: =BM1 -> 2026 | BH1: 12 | BI1: ='Page 1'!B6 -> 2026-2027 | BM1: =LEFT(BI1,4) -> 2026
A2: ="Phase Chart " & 'Page 12 PC1YR'!BD1 -> Phase Chart 2026
A3: Administration | F3: Number of Parcels per Tasks | I3: Standard Level of Production per Day | L3: January | P3: February | T3: March | X3: April | AB3: May | AF3: June | AJ3: July | AN3: August | AR3: September | AV3: October | AZ3: November | BD3: December | BM3: January | BQ3: February | BU3: March | BY3: April | CC3: May | CG3: June | CK3: July | CO3: August | CS3: September | CW3: October | DA3: November | DE3: December | DK3: Work Days required
A8: Plan & Budget | BF8: x | BG8: x | BM8: =IF(OR(L8="x",L8= "X"),5,"") | BN8: =IF(OR(M8="x",M8= "X"),5,"") | BO8: =IF(OR(N8="x",N8= "X"),5,"") | BP8: =IF(OR(O8="x",O8= "X"),5,"") | BQ8: =IF(OR(P8="x",P8= "X"),5,"") | BR8: =IF(OR(Q8="x",Q8= "X"),5,"") | BS8: =IF(OR(R8="x",R8= "X"),5,"") | BT8: =IF(OR(S8="x",S8= "X"),5,"") | ... DH8: =IF(OR(BG8="x",BG8= "X"),5,"") -> 5 | DI8: =SUM(BM8:DH8) -> 10 | DK8: =F8/I8 -> #DIV/0! | DL8: =ROUND(DK8/DI8,2) -> #DIV/0!
A9: Change Notices | F9: 250 | I9: 250 | AE9: x | AF9: x | BM9: =IF(OR(L9="x",L9= "X"),5,"") | BN9: =IF(OR(M9="x",M9= "X"),5,"") | BO9: =IF(OR(N9="x",N9= "X"),5,"") | BP9: =IF(OR(O9="x",O9= "X"),5,"") | BQ9: =IF(OR(P9="x",P9= "X"),5,"") | BR9: =IF(OR(Q9="x",Q9= "X"),5,"") | BS9: =IF(OR(R9="x",R9= "X"),5,"") | BT9: =IF(OR(S9="x",S9= "X"),5,"") | ... DH9: =IF(OR(BG9="x",BG9= "X"),5,"") | DI9: =SUM(BM9:DH9) -> 10 | DK9: =F9/I9 -> 1 | DL9: =ROUND(DK9/DI9,2) -> 0.1 | DM9: =IF(DL9>=0,DL9,"") -> 0.1
A10: Assmt Roll | AF10: x | AG10: x | AH10: x | AI10: x | BM10: =IF(OR(L10="x",L10= "X"),5,"") | BN10: =IF(OR(M10="x",M10= "X"),5,"") | BO10: =IF(OR(N10="x",N10= "X"),5,"") | BP10: =IF(OR(O10="x",O10= "X"),5,"") | BQ10: =IF(OR(P10="x",P10= "X"),5,"") | BR10: =IF(OR(Q10="x",Q10= "X"),5,"") | BS10: =IF(OR(R10="x",R10= "X"),5,"") | BT10: =IF(OR(S10="x",S10= "X"),5,"") | ... DH10: =IF(OR(BG10="x",BG10= "X"),5,"") | DI10: =SUM(BM10:DH10) -> 20 | DK10: =F10/I10 -> #DIV/0! | DL10: =ROUND(DK10/DI10,2) -> #DIV/0!
A11: Email Assmt Roll to STC | AJ11: x | AK11: x | BM11: =IF(OR(L11="x",L11= "X"),5,"") | BN11: =IF(OR(M11="x",M11= "X"),5,"") | BO11: =IF(OR(N11="x",N11= "X"),5,"") | BP11: =IF(OR(O11="x",O11= "X"),5,"") | BQ11: =IF(OR(P11="x",P11= "X"),5,"") | BR11: =IF(OR(Q11="x",Q11= "X"),5,"") | BS11: =IF(OR(R11="x",R11= "X"),5,"") | BT11: =IF(OR(S11="x",S11= "X"),5,"") | ... DH11: =IF(OR(BG11="x",BG11= "X"),5,"") | DI11: =SUM(BM11:DH11) -> 10 | DK11: =F11/I11 -> #DIV/0! | DL11: =ROUND(DK11/DI11,2) -> #DIV/0!
A12: Abated Prop | BM12: =IF(OR(L12="x",L12= "X"),5,"") | BN12: =IF(OR(M12="x",M12= "X"),5,"") | BO12: =IF(OR(N12="x",N12= "X"),5,"") | BP12: =IF(OR(O12="x",O12= "X"),5,"") | BQ12: =IF(OR(P12="x",P12= "X"),5,"") | BR12: =IF(OR(Q12="x",Q12= "X"),5,"") | BS12: =IF(OR(R12="x",R12= "X"),5,"") | BT12: =IF(OR(S12="x",S12= "X"),5,"") | ... DH12: =IF(OR(BG12="x",BG12= "X"),5,"") | DI12: =SUM(BM12:DH12) -> 0 | DK12: =F12/I12 -> #DIV/0! | DL12: =ROUND(DK12/DI12,2) -> #DIV/0!
A13: Computer Inv | AA13: x | BM13: =IF(OR(L13="x",L13= "X"),5,"") | BN13: =IF(OR(M13="x",M13= "X"),5,"") | BO13: =IF(OR(N13="x",N13= "X"),5,"") | BP13: =IF(OR(O13="x",O13= "X"),5,"") | BQ13: =IF(OR(P13="x",P13= "X"),5,"") | BR13: =IF(OR(Q13="x",Q13= "X"),5,"") | BS13: =IF(OR(R13="x",R13= "X"),5,"") | BT13: =IF(OR(S13="x",S13= "X"),5,"") | ... DH13: =IF(OR(BG13="x",BG13= "X"),5,"") | DI13: =SUM(BM13:DH13) -> 5 | DK13: =F13/I13 -> #DIV/0! | DL13: =ROUND(DK13/DI13,2) -> #DIV/0!
A14: Public Traffic | F14: 3000 | I14: 50 | L14: x | M14: x | N14: x | O14: x | P14: x | Q14: x | R14: x | S14: x | T14: x | U14: x | V14: x | W14: x | X14: x | Y14: x | Z14: x | AA14: x | AB14: x | AC14: x | AD14: x | AE14: x | AF14: x | AG14: x | AH14: x | AI14: x | AJ14: x | AK14: x | AL14: x | AM14: x | AN14: x | AO14: x | AP14: x | AQ14: x | AR14: x | AS14: x | AT14: x | AU14: x | AV14: x | AW14: x | AX14: x | AY14: x | AZ14: x | BA14: x | BB14: x | BC14: x | BD14: x | BE14: x | BF14: x | BG14: x | BM14: =IF(OR(L14="x",L14= "X"),5,"") -> 5 | BN14: =IF(OR(M14="x",M14= "X"),5,"") -> 5 | BO14: =IF(OR(N14="x",N14= "X"),5,"") -> 5 | BP14: =IF(OR(O14="x",O14= "X"),5,"") -> 5 | BQ14: =IF(OR(P14="x",P14= "X"),5,"") -> 5 | BR14: =IF(OR(Q14="x",Q14= "X"),5,"") -> 5 | BS14: =IF(OR(R14="x",R14= "X"),5,"") -> 5 | BT14: =IF(OR(S14="x",S14= "X"),5,"") -> 5 | ... DH14: =IF(OR(BG14="x",BG14= "X"),5,"") -> 5 | DI14: =SUM(BM14:DH14) -> 240 | DK14: =F14/I14 -> 60 | DL14: =ROUND(DK14/DI14,2) -> 0.25
A15: Processing Transfers | F15: 1500 | I15: 30 | L15: x | P15: x | T15: x | X15: x | AB15: x | AF15: x | AJ15: x | AN15: x | AR15: x | AV15: x | AZ15: x | BD15: x | BM15: =IF(OR(L15="x",L15= "X"),5,"") -> 5 | BN15: =IF(OR(M15="x",M15= "X"),5,"") | BO15: =IF(OR(N15="x",N15= "X"),5,"") | BP15: =IF(OR(O15="x",O15= "X"),5,"") | BQ15: =IF(OR(P15="x",P15= "X"),5,"") -> 5 | BR15: =IF(OR(Q15="x",Q15= "X"),5,"") | BS15: =IF(OR(R15="x",R15= "X"),5,"") | BT15: =IF(OR(S15="x",S15= "X"),5,"") | ... DH15: =IF(OR(BG15="x",BG15= "X"),5,"") | DI15: =SUM(BM15:DH15) -> 60 | DK15: =F15/I15 -> 50 | DL15: =ROUND(DK15/DI15,2) -> 0.83
A16: Map/GIS Updates | F16: 1000 | I16: 60 | M16: x | Q16: x | U16: x | Y16: x | AC16: x | AG16: x | AK16: x | AO16: x | AS16: x | AW16: x | BA16: x | BE16: x | BM16: =IF(OR(L16="x",L16= "X"),5,"") | BN16: =IF(OR(M16="x",M16= "X"),5,"") -> 5 | BO16: =IF(OR(N16="x",N16= "X"),5,"") | BP16: =IF(OR(O16="x",O16= "X"),5,"") | BQ16: =IF(OR(P16="x",P16= "X"),5,"") | BR16: =IF(OR(Q16="x",Q16= "X"),5,"") -> 5 | BS16: =IF(OR(R16="x",R16= "X"),5,"") | BT16: =IF(OR(S16="x",S16= "X"),5,"") | ... DH16: =IF(OR(BG16="x",BG16= "X"),5,"") | DI16: =SUM(BM16:DH16) -> 60 | DK16: =F16/I16 -> 16.666667 | DL16: =ROUND(DK16/DI16,2) -> 0.28
A17: Sales Letters | F17: 500 | I17: 30 | L17: x | P17: x | T17: x | X17: x | AB17: x | AF17: x | AJ17: x | AN17: x | AR17: x | AV17: x | AZ17: x | BD17: x | BM17: =IF(OR(L17="x",L17= "X"),5,"") -> 5 | BN17: =IF(OR(M17="x",M17= "X"),5,"") | BO17: =IF(OR(N17="x",N17= "X"),5,"") | BP17: =IF(OR(O17="x",O17= "X"),5,"") | BQ17: =IF(OR(P17="x",P17= "X"),5,"") -> 5 | BR17: =IF(OR(Q17="x",Q17= "X"),5,"") | BS17: =IF(OR(R17="x",R17= "X"),5,"") | BT17: =IF(OR(S17="x",S17= "X"),5,"") | ... DH17: =IF(OR(BG17="x",BG17= "X"),5,"") | DI17: =SUM(BM17:DH17) -> 60 | DK17: =F17/I17 -> 16.666667 | DL17: =ROUND(DK17/DI17,2) -> 0.28
A18: Sales Data Entry | F18: 150 | I18: 50 | O18: x | S18: x | W18: x | AA18: x | AE18: x | AI18: x | AM18: x | AQ18: x | AU18: x | AY18: x | BC18: x | BG18: x | BM18: =IF(OR(L18="x",L18= "X"),5,"") | BN18: =IF(OR(M18="x",M18= "X"),5,"") | BO18: =IF(OR(N18="x",N18= "X"),5,"") | BP18: =IF(OR(O18="x",O18= "X"),5,"") -> 5 | BQ18: =IF(OR(P18="x",P18= "X"),5,"") | BR18: =IF(OR(Q18="x",Q18= "X"),5,"") | BS18: =IF(OR(R18="x",R18= "X"),5,"") | BT18: =IF(OR(S18="x",S18= "X"),5,"") -> 5 | ... DH18: =IF(OR(BG18="x",BG18= "X"),5,"") -> 5 | DI18: =SUM(BM18:DH18) -> 60 | DK18: =F18/I18 -> 3 | DL18: =ROUND(DK18/DI18,2) -> 0.05
A19: Sales Field Reviews | M19: x | Q19: x | U19: x | Y19: x | AC19: x | AG19: x | AK19: x | AO19: x | AS19: x | AW19: x | BA19: x | BE19: x | BM19: =IF(OR(L19="x",L19= "X"),5,"") | BN19: =IF(OR(M19="x",M19= "X"),5,"") -> 5 | BO19: =IF(OR(N19="x",N19= "X"),5,"") | BP19: =IF(OR(O19="x",O19= "X"),5,"") | BQ19: =IF(OR(P19="x",P19= "X"),5,"") | BR19: =IF(OR(Q19="x",Q19= "X"),5,"") -> 5 | BS19: =IF(OR(R19="x",R19= "X"),5,"") | BT19: =IF(OR(S19="x",S19= "X"),5,"") | ... DH19: =IF(OR(BG19="x",BG19= "X"),5,"") | DI19: =SUM(BM19:DH19) -> 60 | DK19: =F19/I19 -> #DIV/0! | DL19: =ROUND(DK19/DI19,2) -> #DIV/0!
A20: Sales to STC Res Ratio | W20: x | AI20: x | AU20: x | BG20: x | BM20: =IF(OR(L20="x",L20= "X"),5,"") | BN20: =IF(OR(M20="x",M20= "X"),5,"") | BO20: =IF(OR(N20="x",N20= "X"),5,"") | BP20: =IF(OR(O20="x",O20= "X"),5,"") | BQ20: =IF(OR(P20="x",P20= "X"),5,"") | BR20: =IF(OR(Q20="x",Q20= "X"),5,"") | BS20: =IF(OR(R20="x",R20= "X"),5,"") | BT20: =IF(OR(S20="x",S20= "X"),5,"") | ... DH20: =IF(OR(BG20="x",BG20= "X"),5,"") -> 5 | DI20: =SUM(BM20:DH20) -> 20 | DK20: =F20/I20 -> #DIV/0! | DL20: =ROUND(DK20/DI20,2) -> #DIV/0!
A21: Sales Ratios | W21: x | AI21: x | AU21: x | BG21: x | BM21: =IF(OR(L21="x",L21= "X"),5,"") | BN21: =IF(OR(M21="x",M21= "X"),5,"") | BO21: =IF(OR(N21="x",N21= "X"),5,"") | BP21: =IF(OR(O21="x",O21= "X"),5,"") | BQ21: =IF(OR(P21="x",P21= "X"),5,"") | BR21: =IF(OR(Q21="x",Q21= "X"),5,"") | BS21: =IF(OR(R21="x",R21= "X"),5,"") | BT21: =IF(OR(S21="x",S21= "X"),5,"") | ... DH21: =IF(OR(BG21="x",BG21= "X"),5,"") -> 5 | DI21: =SUM(BM21:DH21) -> 20 | DK21: =F21/I21 -> #DIV/0! | DL21: =ROUND(DK21/DI21,2) -> #DIV/0!
A22: Index/Man Lvl | AN22: x | BM22: =IF(OR(L22="x",L22= "X"),5,"") | BN22: =IF(OR(M22="x",M22= "X"),5,"") | BO22: =IF(OR(N22="x",N22= "X"),5,"") | BP22: =IF(OR(O22="x",O22= "X"),5,"") | BQ22: =IF(OR(P22="x",P22= "X"),5,"") | BR22: =IF(OR(Q22="x",Q22= "X"),5,"") | BS22: =IF(OR(R22="x",R22= "X"),5,"") | BT22: =IF(OR(S22="x",S22= "X"),5,"") | ... DH22: =IF(OR(BG22="x",BG22= "X"),5,"") | DI22: =SUM(BM22:DH22) -> 5 | DK22: =F22/I22 -> #DIV/0! | DL22: =ROUND(DK22/DI22,2) -> #DIV/0!
A23: Land Analysis | AN23: x | BM23: =IF(OR(L23="x",L23= "X"),5,"") | BN23: =IF(OR(M23="x",M23= "X"),5,"") | BO23: =IF(OR(N23="x",N23= "X"),5,"") | BP23: =IF(OR(O23="x",O23= "X"),5,"") | BQ23: =IF(OR(P23="x",P23= "X"),5,"") | BR23: =IF(OR(Q23="x",Q23= "X"),5,"") | BS23: =IF(OR(R23="x",R23= "X"),5,"") | BT23: =IF(OR(S23="x",S23= "X"),5,"") | ... DH23: =IF(OR(BG23="x",BG23= "X"),5,"") | DI23: =SUM(BM23:DH23) -> 5 | DK23: =F23/I23 -> #DIV/0! | DL23: =ROUND(DK23/DI23,2) -> #DIV/0!
A24: Building/Deprec Study | AN24: x | BM24: =IF(OR(L24="x",L24= "X"),5,"") | BN24: =IF(OR(M24="x",M24= "X"),5,"") | BO24: =IF(OR(N24="x",N24= "X"),5,"") | BP24: =IF(OR(O24="x",O24= "X"),5,"") | BQ24: =IF(OR(P24="x",P24= "X"),5,"") | BR24: =IF(OR(Q24="x",Q24= "X"),5,"") | BS24: =IF(OR(R24="x",R24= "X"),5,"") | BT24: =IF(OR(S24="x",S24= "X"),5,"") | ... DH24: =IF(OR(BG24="x",BG24= "X"),5,"") | DI24: =SUM(BM24:DH24) -> 5 | DK24: =F24/I24 -> #DIV/0! | DL24: =ROUND(DK24/DI24,2) -> #DIV/0!
A25: New System Data Entry RP | L25: x | P25: x | T25: x | X25: x | AB25: x | AF25: x | AJ25: x | AN25: x | AR25: x | AV25: x | AZ25: x | BD25: x | BM25: =IF(OR(L25="x",L25= "X"),5,"") -> 5 | BN25: =IF(OR(M25="x",M25= "X"),5,"") | BO25: =IF(OR(N25="x",N25= "X"),5,"") | BP25: =IF(OR(O25="x",O25= "X"),5,"") | BQ25: =IF(OR(P25="x",P25= "X"),5,"") -> 5 | BR25: =IF(OR(Q25="x",Q25= "X"),5,"") | BS25: =IF(OR(R25="x",R25= "X"),5,"") | BT25: =IF(OR(S25="x",S25= "X"),5,"") | ... DH25: =IF(OR(BG25="x",BG25= "X"),5,"") | DI25: =SUM(BM25:DH25) -> 60 | DK25: =F25/I25 -> #DIV/0! | DL25: =ROUND(DK25/DI25,2) -> #DIV/0!
A26: New Const Field Review | F26: 1000 | I26: 50 | L26: x | N26: x | P26: x | R26: x | T26: x | V26: x | X26: x | Z26: x | AB26: x | AD26: x | AF26: x | AH26: x | AJ26: x | AL26: x | AN26: x | AP26: x | AR26: x | AT26: x | AV26: x | AX26: x | AZ26: x | BB26: x | BD26: x | BF26: x | BM26: =IF(OR(L26="x",L26= "X"),5,"") -> 5 | BN26: =IF(OR(M26="x",M26= "X"),5,"") | BO26: =IF(OR(N26="x",N26= "X"),5,"") -> 5 | BP26: =IF(OR(O26="x",O26= "X"),5,"") | BQ26: =IF(OR(P26="x",P26= "X"),5,"") -> 5 | BR26: =IF(OR(Q26="x",Q26= "X"),5,"") | BS26: =IF(OR(R26="x",R26= "X"),5,"") -> 5 | BT26: =IF(OR(S26="x",S26= "X"),5,"") | ... DH26: =IF(OR(BG26="x",BG26= "X"),5,"") | DI26: =SUM(BM26:DH26) -> 120 | DK26: =F26/I26 -> 20 | DL26: =ROUND(DK26/DI26,2) -> 0.17
A27: New Const Data Entry/Cal. | F27: 500 | I27: 20 | L27: x | P27: x | T27: x | X27: x | AB27: x | AF27: x | AJ27: x | AN27: x | AR27: x | AV27: x | AZ27: x | BD27: x | BM27: =IF(OR(L27="x",L27= "X"),5,"") -> 5 | BN27: =IF(OR(M27="x",M27= "X"),5,"") | BO27: =IF(OR(N27="x",N27= "X"),5,"") | BP27: =IF(OR(O27="x",O27= "X"),5,"") | BQ27: =IF(OR(P27="x",P27= "X"),5,"") -> 5 | BR27: =IF(OR(Q27="x",Q27= "X"),5,"") | BS27: =IF(OR(R27="x",R27= "X"),5,"") | BT27: =IF(OR(S27="x",S27= "X"),5,"") | ... DH27: =IF(OR(BG27="x",BG27= "X"),5,"") | DI27: =SUM(BM27:DH27) -> 60 | DK27: =F27/I27 -> 25 | DL27: =ROUND(DK27/DI27,2) -> 0.42
A28: New Const Office Review | F28: 500 | I28: 50 | L28: x | P28: x | T28: x | X28: x | AB28: x | AF28: x | AJ28: x | AN28: x | AR28: x | AV28: x | AZ28: x | BD28: x | BM28: =IF(OR(L28="x",L28= "X"),5,"") -> 5 | BN28: =IF(OR(M28="x",M28= "X"),5,"") | BO28: =IF(OR(N28="x",N28= "X"),5,"") | BP28: =IF(OR(O28="x",O28= "X"),5,"") | BQ28: =IF(OR(P28="x",P28= "X"),5,"") -> 5 | BR28: =IF(OR(Q28="x",Q28= "X"),5,"") | BS28: =IF(OR(R28="x",R28= "X"),5,"") | BT28: =IF(OR(S28="x",S28= "X"),5,"") | ... DH28: =IF(OR(BG28="x",BG28= "X"),5,"") | DI28: =SUM(BM28:DH28) -> 60 | DK28: =F28/I28 -> 10 | DL28: =ROUND(DK28/DI28,2) -> 0.17
A29: Preliminary Calculations | AF29: x | BM29: =IF(OR(L29="x",L29= "X"),5,"") | BN29: =IF(OR(M29="x",M29= "X"),5,"") | BO29: =IF(OR(N29="x",N29= "X"),5,"") | BP29: =IF(OR(O29="x",O29= "X"),5,"") | BQ29: =IF(OR(P29="x",P29= "X"),5,"") | BR29: =IF(OR(Q29="x",Q29= "X"),5,"") | BS29: =IF(OR(R29="x",R29= "X"),5,"") | BT29: =IF(OR(S29="x",S29= "X"),5,"") | ... DH29: =IF(OR(BG29="x",BG29= "X"),5,"") | DI29: =SUM(BM29:DH29) -> 5 | DK29: =F29/I29 -> #DIV/0! | DL29: =ROUND(DK29/DI29,2) -> #DIV/0!
A30: Final Field Review | F30: 7300 | I30: 400 | AN30: x | AP30: x | AR30: x | AT30: x | AV30: x | AX30: x | AZ30: x | BB30: x | BD30: x | BF30: x | BM30: =IF(OR(L30="x",L30= "X"),5,"") | BN30: =IF(OR(M30="x",M30= "X"),5,"") | BO30: =IF(OR(N30="x",N30= "X"),5,"") | BP30: =IF(OR(O30="x",O30= "X"),5,"") | BQ30: =IF(OR(P30="x",P30= "X"),5,"") | BR30: =IF(OR(Q30="x",Q30= "X"),5,"") | BS30: =IF(OR(R30="x",R30= "X"),5,"") | BT30: =IF(OR(S30="x",S30= "X"),5,"") | ... DH30: =IF(OR(BG30="x",BG30= "X"),5,"") | DI30: =SUM(BM30:DH30) -> 50 | DK30: =F30/I30 -> 18.25 | DL30: =ROUND(DK30/DI30,2) -> 0.37
A31: Final Data Entry/Cal. | F31: 3000 | I31: 75 | AN31: x | AP31: x | AR31: x | AT31: x | AV31: x | AX31: x | AZ31: x | BB31: x | BD31: x | BF31: x | BM31: =IF(OR(L31="x",L31= "X"),5,"") | BN31: =IF(OR(M31="x",M31= "X"),5,"") | BO31: =IF(OR(N31="x",N31= "X"),5,"") | BP31: =IF(OR(O31="x",O31= "X"),5,"") | BQ31: =IF(OR(P31="x",P31= "X"),5,"") | BR31: =IF(OR(Q31="x",Q31= "X"),5,"") | BS31: =IF(OR(R31="x",R31= "X"),5,"") | BT31: =IF(OR(S31="x",S31= "X"),5,"") | ... DH31: =IF(OR(BG31="x",BG31= "X"),5,"") | DI31: =SUM(BM31:DH31) -> 50 | DK31: =F31/I31 -> 40 | DL31: =ROUND(DK31/DI31,2) -> 0.8
A32: Final Office Review | F32: 3000 | I32: 100 | AO32: x | AQ32: x | AS32: x | AU32: x | AW32: x | AY32: x | BA32: x | BC32: x | BE32: x | BM32: =IF(OR(L32="x",L32= "X"),5,"") | BN32: =IF(OR(M32="x",M32= "X"),5,"") | BO32: =IF(OR(N32="x",N32= "X"),5,"") | BP32: =IF(OR(O32="x",O32= "X"),5,"") | BQ32: =IF(OR(P32="x",P32= "X"),5,"") | BR32: =IF(OR(Q32="x",Q32= "X"),5,"") | BS32: =IF(OR(R32="x",R32= "X"),5,"") | BT32: =IF(OR(S32="x",S32= "X"),5,"") | ... DH32: =IF(OR(BG32="x",BG32= "X"),5,"") | DI32: =SUM(BM32:DH32) -> 45 | DK32: =F32/I32 -> 30 | DL32: =ROUND(DK32/DI32,2) -> 0.67
BM33: =IF(OR(L33="x",L33= "X"),5,"") | BN33: =IF(OR(M33="x",M33= "X"),5,"") | BO33: =IF(OR(N33="x",N33= "X"),5,"") | BP33: =IF(OR(O33="x",O33= "X"),5,"") | BQ33: =IF(OR(P33="x",P33= "X"),5,"") | BR33: =IF(OR(Q33="x",Q33= "X"),5,"") | BS33: =IF(OR(R33="x",R33= "X"),5,"") | BT33: =IF(OR(S33="x",S33= "X"),5,"") | ... DH33: =IF(OR(BG33="x",BG33= "X"),5,"") | DI33: =SUM(BM33:DH33) -> 0 | DK33: =F33/I33 -> #DIV/0! | DL33: =ROUND(DK33/DI33,2) -> #DIV/0!
A34: PP Prepare/Mail | F34: 8700 | I34: 1000 | L34: x | BG34: x | BM34: =IF(OR(L34="x",L34= "X"),5,"") -> 5 | BN34: =IF(OR(M34="x",M34= "X"),5,"") | BO34: =IF(OR(N34="x",N34= "X"),5,"") | BP34: =IF(OR(O34="x",O34= "X"),5,"") | BQ34: =IF(OR(P34="x",P34= "X"),5,"") | BR34: =IF(OR(Q34="x",Q34= "X"),5,"") | BS34: =IF(OR(R34="x",R34= "X"),5,"") | BT34: =IF(OR(S34="x",S34= "X"),5,"") | ... DH34: =IF(OR(BG34="x",BG34= "X"),5,"") -> 5 | DI34: =SUM(BM34:DH34) -> 10 | DK34: =F34/I34 -> 8.7 | DL34: =ROUND(DK34/DI34,2) -> 0.87
A35: PP 2nd Notices | F35: 1200 | I35: 400 | T35: x | U35: x | BM35: =IF(OR(L35="x",L35= "X"),5,"") | BN35: =IF(OR(M35="x",M35= "X"),5,"") | BO35: =IF(OR(N35="x",N35= "X"),5,"") | BP35: =IF(OR(O35="x",O35= "X"),5,"") | BQ35: =IF(OR(P35="x",P35= "X"),5,"") | BR35: =IF(OR(Q35="x",Q35= "X"),5,"") | BS35: =IF(OR(R35="x",R35= "X"),5,"") | BT35: =IF(OR(S35="x",S35= "X"),5,"") | ... DH35: =IF(OR(BG35="x",BG35= "X"),5,"") | DI35: =SUM(BM35:DH35) -> 10 | DK35: =F35/I35 -> 3 | DL35: =ROUND(DK35/DI35,2) -> 0.3
A36: Process PP Lists | F36: 8700 | I36: 150 | P36: x | Q36: x | R36: x | S36: x | T36: x | U36: x | V36: x | W36: x | X36: x | Y36: x | Z36: x | AA36: x | AB36: x | AC36: x | AD36: x | AE36: x | BM36: =IF(OR(L36="x",L36= "X"),5,"") | BN36: =IF(OR(M36="x",M36= "X"),5,"") | BO36: =IF(OR(N36="x",N36= "X"),5,"") | BP36: =IF(OR(O36="x",O36= "X"),5,"") | BQ36: =IF(OR(P36="x",P36= "X"),5,"") -> 5 | BR36: =IF(OR(Q36="x",Q36= "X"),5,"") -> 5 | BS36: =IF(OR(R36="x",R36= "X"),5,"") -> 5 | BT36: =IF(OR(S36="x",S36= "X"),5,"") -> 5 | ... DH36: =IF(OR(BG36="x",BG36= "X"),5,"") | DI36: =SUM(BM36:DH36) -> 80 | DK36: =F36/I36 -> 58 | DL36: =ROUND(DK36/DI36,2) -> 0.73
A37: PP Data Entry | F37: 150 | I37: 50 | L37: x | P37: x | T37: x | X37: x | AB37: x | AF37: x | AJ37: x | AN37: x | AR37: x | AV37: x | AZ37: x | BD37: x | BM37: =IF(OR(L37="x",L37= "X"),5,"") -> 5 | BN37: =IF(OR(M37="x",M37= "X"),5,"") | BO37: =IF(OR(N37="x",N37= "X"),5,"") | BP37: =IF(OR(O37="x",O37= "X"),5,"") | BQ37: =IF(OR(P37="x",P37= "X"),5,"") -> 5 | BR37: =IF(OR(Q37="x",Q37= "X"),5,"") | BS37: =IF(OR(R37="x",R37= "X"),5,"") | BT37: =IF(OR(S37="x",S37= "X"),5,"") | ... DH37: =IF(OR(BG37="x",BG37= "X"),5,"") | DI37: =SUM(BM37:DH37) -> 60 | DK37: =F37/I37 -> 3 | DL37: =ROUND(DK37/DI37,2) -> 0.05
A38: Informal Hearings | F38: 200 | I38: 50 | AF38: x | AG38: x | AH38: x | AI38: x | BM38: =IF(OR(L38="x",L38= "X"),5,"") | BN38: =IF(OR(M38="x",M38= "X"),5,"") | BO38: =IF(OR(N38="x",N38= "X"),5,"") | BP38: =IF(OR(O38="x",O38= "X"),5,"") | BQ38: =IF(OR(P38="x",P38= "X"),5,"") | BR38: =IF(OR(Q38="x",Q38= "X"),5,"") | BS38: =IF(OR(R38="x",R38= "X"),5,"") | BT38: =IF(OR(S38="x",S38= "X"),5,"") | ... DH38: =IF(OR(BG38="x",BG38= "X"),5,"") | DI38: =SUM(BM38:DH38) -> 20 | DK38: =F38/I38 -> 4 | DL38: =ROUND(DK38/DI38,2) -> 0.2
A39: BOE Hearings | F39: 5 | I39: 5 | AL39: x | BM39: =IF(OR(L39="x",L39= "X"),5,"") | BN39: =IF(OR(M39="x",M39= "X"),5,"") | BO39: =IF(OR(N39="x",N39= "X"),5,"") | BP39: =IF(OR(O39="x",O39= "X"),5,"") | BQ39: =IF(OR(P39="x",P39= "X"),5,"") | BR39: =IF(OR(Q39="x",Q39= "X"),5,"") | BS39: =IF(OR(R39="x",R39= "X"),5,"") | BT39: =IF(OR(S39="x",S39= "X"),5,"") | ... DH39: =IF(OR(BG39="x",BG39= "X"),5,"") | DI39: =SUM(BM39:DH39) -> 5 | DK39: =F39/I39 -> 1 | DL39: =ROUND(DK39/DI39,2) -> 0.2
A40: STC Hearings | BM40: =IF(OR(L40="x",L40= "X"),5,"") | BN40: =IF(OR(M40="x",M40= "X"),5,"") | BO40: =IF(OR(N40="x",N40= "X"),5,"") | BP40: =IF(OR(O40="x",O40= "X"),5,"") | BQ40: =IF(OR(P40="x",P40= "X"),5,"") | BR40: =IF(OR(Q40="x",Q40= "X"),5,"") | BS40: =IF(OR(R40="x",R40= "X"),5,"") | BT40: =IF(OR(S40="x",S40= "X"),5,"") | ... DH40: =IF(OR(BG40="x",BG40= "X"),5,"") | DI40: =SUM(BM40:DH40) -> 0 | DK40: =F40/I40 -> #DIV/0! | DL40: =ROUND(DK40/DI40,2) -> #DIV/0!
A41: PP after books close | F41: 1500 | I41: 100 | AN41: x | AR41: x | AV41: x | AZ41: x | BD41: x | BM41: =IF(OR(L41="x",L41= "X"),5,"") | BN41: =IF(OR(M41="x",M41= "X"),5,"") | BO41: =IF(OR(N41="x",N41= "X"),5,"") | BP41: =IF(OR(O41="x",O41= "X"),5,"") | BQ41: =IF(OR(P41="x",P41= "X"),5,"") | BR41: =IF(OR(Q41="x",Q41= "X"),5,"") | BS41: =IF(OR(R41="x",R41= "X"),5,"") | BT41: =IF(OR(S41="x",S41= "X"),5,"") | ... DH41: =IF(OR(BG41="x",BG41= "X"),5,"") | DI41: =SUM(BM41:DH41) -> 25 | DJ41: =IF(OR(BI41="x",BI41= "X"),0.85,"") | DK41: =F41/I41 -> 15 | DL41: =ROUND(DK41/DI41,2) -> 0.6
BM42: =IF(OR(L42="x",L42= "X"),5,"") | BN42: =IF(OR(M42="x",M42= "X"),5,"") | BO42: =IF(OR(N42="x",N42= "X"),5,"") | BP42: =IF(OR(O42="x",O42= "X"),5,"") | BQ42: =IF(OR(P42="x",P42= "X"),5,"") | BR42: =IF(OR(Q42="x",Q42= "X"),5,"") | BS42: =IF(OR(R42="x",R42= "X"),5,"") | BT42: =IF(OR(S42="x",S42= "X"),5,"") | ... DH42: =IF(OR(BG42="x",BG42= "X"),5,"") | DI42: =SUM(BM42:DH42) -> 0 | DJ42: =IF(OR(BI42="x",BI42= "X"),0.85,"") | DK42: =F42/I42 -> #DIV/0! | DL42: =ROUND(DK42/DI42,2) -> #DIV/0!
BM43: =IF(OR(L43="x",L43= "X"),5,"") | BN43: =IF(OR(M43="x",M43= "X"),5,"") | BO43: =IF(OR(N43="x",N43= "X"),5,"") | BP43: =IF(OR(O43="x",O43= "X"),5,"") | BQ43: =IF(OR(P43="x",P43= "X"),5,"") | BR43: =IF(OR(Q43="x",Q43= "X"),5,"") | BS43: =IF(OR(R43="x",R43= "X"),5,"") | BT43: =IF(OR(S43="x",S43= "X"),5,"") | ... DH43: =IF(OR(BG43="x",BG43= "X"),5,"") | DI43: =SUM(BM43:DH43) -> 0 | DJ43: =IF(OR(BI43="x",BI43= "X"),0.85,"") | DK43: =F43/I43 -> #DIV/0! | DL43: =ROUND(DK43/DI43,2) -> #DIV/0!
BM44: =IF(OR(L44="x",L44= "X"),5,"") | BN44: =IF(OR(M44="x",M44= "X"),5,"") | BO44: =IF(OR(N44="x",N44= "X"),5,"") | BP44: =IF(OR(O44="x",O44= "X"),5,"") | BQ44: =IF(OR(P44="x",P44= "X"),5,"") | BR44: =IF(OR(Q44="x",Q44= "X"),5,"") | BS44: =IF(OR(R44="x",R44= "X"),5,"") | BT44: =IF(OR(S44="x",S44= "X"),5,"") | ... DH44: =IF(OR(BG44="x",BG44= "X"),5,"") | DI44: =SUM(BM44:DH44) -> 0 | DJ44: =IF(OR(BI44="x",BI44= "X"),0.85,"") | DK44: =F44/I44 -> #DIV/0! | DL44: =ROUND(DK44/DI44,2) -> #DIV/0!
...

Sheet donotuse
A1: ='Page 1'!B11 -> Gasconade County | W1: Revised:
A2: PERSONNEL ESTIMATION CALCULATIONS
A4: ='Page 1'!B6 -> 2026-2027
A7: Phase | K7: Number of Parcels | Q7: Standard Level of Production | AA7: Work Days Required | AG7: Total Work Days | AM7: Persons Needed
A9: ="Change Notice -" &(LEFT(A4,4)) -> Change Notice -2026 | K9: =IF(ISBLANK('Page 12 PC1YR'!F9)," ",('Page 12 PC1YR'!F9)) -> 250 | Q9: =IF(ISBLANK('Page 12 PC1YR'!I9)," ",('Page 12 PC1YR'!L9)) -> 0 | AA9: =IF(ISBLANK('Page 12 PC1YR'!F9)," ",(K9/Q9)) -> #DIV/0! | AG9: =IF(ISBLANK('Page 12 PC1YR'!F10)," ",([1]Page12!DI8)) | AM9: =AA9/AG9 -> #DIV/0!
A11: Public Traffic | K11: =IF(ISBLANK('Page 12 PC1YR'!F14)," ",('Page 12 PC1YR'!F14)) -> 3000 | Q11: =IF(ISBLANK('Page 12 PC1YR'!F14)," ",('Page 12 PC1YR'!I14)) -> 50 | AA11: =IF(ISBLANK('Page 12 PC1YR'!F14)," ",(K11/Q11)) -> 60
A13: Processing Transfers | K13: =IF(ISBLANK('Page 12 PC1YR'!F15)," ",('Page 12 PC1YR'!F15)) -> 1500 | Q13: =IF(ISBLANK('Page 12 PC1YR'!F15)," ",('Page 12 PC1YR'!I15)) -> 30 | AA13: =IF(ISBLANK('Page 12 PC1YR'!F15)," ",(K13/Q13)) -> 50
A15: Updating Maps/GIS Splits & Deletes | K15: =IF(ISBLANK('Page 12 PC1YR'!#REF!)," ",('Page 12 PC1YR'!#REF!)) -> #REF! | Q15: =IF(ISBLANK('Page 12 PC1YR'!#REF!)," ",('Page 12 PC1YR'!I16)) -> 60 | AA15: =IF(ISBLANK('Page 12 PC1YR'!#REF!)," ",(K15/Q15)) -> #REF!
A17: Sales Letters | AA17: ONO
A19: Sales Data Entry
A21: New Appraisal System, Data Entry
A23: ="Change Notices -"&(RIGHT(A4,5)) -> Change Notices --2027
A25: Preliminary Calculations
A27: Final Review
A29: Final Calculations
A31: Office Review
A33: Data Entry, Real Estate
A35: New Construction Review
A37: Final Calculations, New Construction
A39: Office Review New Construction
A41: Data Entry, Real Estate - New Const.
A43: Prepare & Mail PP List
A45: Process PP Lists
A47: Data Entry, PP
... A51: Board of Equalization
A53: 13

Sheet Page 13 PC1YR
A1: ='Page 1'!B11 -> Gasconade County | M1: Revised: | P1: =IF(ISBLANK('Page 12 PC1YR'!AJ1)," ",('Page 12 PC1YR'!AJ1)) | R1: 13 | AE1: Revised: | BA1: Phase Chart Year: | BL1: =BU1 -> 2026 | BP1: 12 | BQ1: ='Page 1'!B6 -> 2026-2027 | BU1: =LEFT(BQ1,4) -> 2026
A2: ="Phase Chart " &'Page 13 PC1YR'!BL1 -> Phase Chart 2026
A3: Administration | F3: January | G3: February | H3: March | I3: April | J3: May | K3: June | L3: July | M3: August | N3: September | O3: October | P3: November | Q3: December | T3: January | X3: February | AB3: March | AF3: April | AJ3: May | AN3: June | AR3: July | AV3: August | AZ3: September | BD3: October | BH3: November | BL3: December | BU3: January | BY3: February | CC3: March | CG3: April | CK3: May | CO3: June | CS3: July | CW3: August | DA3: September | DE3: October | DI3: November | DM3: December
A8: Change Notices | F8: =IF(ISBLANK('Page 12 PC1YR'!F9)," ",'Page 13 PC1YR'!T8) | G8: =IF(ISBLANK('Page 12 PC1YR'!F9)," ",'Page 13 PC1YR'!X8) | H8: =IF(ISBLANK('Page 12 PC1YR'!F9)," ",'Page 13 PC1YR'!AB8) | I8: =IF(ISBLANK('Page 12 PC1YR'!F9)," ",'Page 13 PC1YR'!AF8) | J8: =IF(ISBLANK('Page 12 PC1YR'!F9)," ",'Page 13 PC1YR'!AJ8) -> 0.1 | K8: =IF(ISBLANK('Page 12 PC1YR'!F9)," ",'Page 13 PC1YR'!AN8) -> 0.1 | L8: =IF(ISBLANK('Page 12 PC1YR'!F9)," ",'Page 13 PC1YR'!AR8) | M8: =IF(ISBLANK('Page 12 PC1YR'!F9)," ",'Page 13 PC1YR'!AV8) | N8: =IF(ISBLANK('Page 12 PC1YR'!F9)," ",'Page 13 PC1YR'!AZ8) | O8: =IF(ISBLANK('Page 12 PC1YR'!F9)," ",'Page 13 PC1YR'!BD8) | P8: =IF(ISBLANK('Page 12 PC1YR'!F9)," ",'Page 13 PC1YR'!BH8) | Q8: =IF(ISBLANK('Page 12 PC1YR'!F9)," ",'Page 13 PC1YR'!BL8) | T8: =IF(OR(COUNTIF('Page 12 PC1YR'!L9:O9,"x")>0,COUNTIF('Page 12 PC1YR'!L9:O9,"X")>0),'Page 12 PC1YR'!DL9," ") | X8: =IF(OR(COUNTIF('Page 12 PC1YR'!P9:S9,"x")>0,COUNTIF('Page 12 PC1YR'!P9:S9,"X")>0),'Page 12 PC1YR'!DL9," ") | AB8: =IF(OR(COUNTIF('Page 12 PC1YR'!T9:W9,"x")>0,COUNTIF('Page 12 PC1YR'!T9:W9,"X")>0),'Page 12 PC1YR'!DL9," ") | AF8: =IF(OR(COUNTIF('Page 12 PC1YR'!X9:AA9,"x")>0,COUNTIF('Page 12 PC1YR'!X9:AA9,"X")>0),'Page 12 PC1YR'!DL9," ") | AJ8: =IF(OR(COUNTIF('Page 12 PC1YR'!AB9:AE9,"x")>0,COUNTIF('Page 12 PC1YR'!AB9:AE9,"X")>0),'Page 12 PC1YR'!DL9," ") -> 0.1 | AN8: =IF(OR(COUNTIF('Page 12 PC1YR'!AF9:AI9,"x")>0,COUNTIF('Page 12 PC1YR'!AF9:AI9,"X")>0),'Page 12 PC1YR'!DL9," ") -> 0.1 | AR8: =IF(OR(COUNTIF('Page 12 PC1YR'!AJ9:AM9,"x")>0,COUNTIF('Page 12 PC1YR'!AJ9:AM9,"X")>0),'Page 12 PC1YR'!DL9," ") | AV8: =IF(OR(COUNTIF('Page 12 PC1YR'!AN9:AQ9,"x")>0,COUNTIF('Page 12 PC1YR'!AN9:AQ9,"X")>0),'Page 12 PC1YR'!DL9," ") | AZ8: =IF(OR(COUNTIF('Page 12 PC1YR'!AR9:AU9,"x")>0,COUNTIF('Page 12 PC1YR'!AR9:AU9,"X")>0),'Page 12 PC1YR'!DL9," ") | BD8: =IF(OR(COUNTIF('Page 12 PC1YR'!AV9:AY9,"x")>0,COUNTIF('Page 12 PC1YR'!AV9:AY9,"X")>0),'Page 12 PC1YR'!DL9," ") | BH8: =IF(OR(COUNTIF('Page 12 PC1YR'!AZ9:BC9,"x")>0,COUNTIF('Page 12 PC1YR'!AZ9:BC9,"X")>0),'Page 12 PC1YR'!DL9," ") | BL8: =IF(OR(COUNTIF('Page 12 PC1YR'!BD9:BG9,"x")>0,COUNTIF('Page 12 PC1YR'!BD9:BG9,"X")>0),'Page 12 PC1YR'!DL9," ") | BU8: =IF(OR(T8="x",T8= "X"),0.85,"") | BV8: =IF(OR(U8="x",U8= "X"),0.85,"") | BW8: =IF(OR(V8="x",V8= "X"),0.85,"") | BX8: =IF(OR(W8="x",W8= "X"),0.85,"") | BY8: =IF(OR(X8="x",X8= "X"),0.85,"") | BZ8: =IF(OR(Y8="x",Y8= "X"),0.85,"") | CA8: =IF(OR(Z8="x",Z8= "X"),0.85,"") | CB8: =IF(OR(AA8="x",AA8= "X"),0.85,"") | ... CJ8: =IF(OR(AI8="x",AI8= "X"),0.85,"") | CK8: =IF(OR('Page 12 PC1YR'!AB9="x",'Page 12 PC1YR'!AB9= "X"),0.85,"") | CL8: =IF(OR(AK8="x",AK8= "X"),0.85,"") | CM8: =IF(OR(AL8="x",AL8= "X"),0.85,"") | CN8: =IF(OR(AM8="x",AM8= "X"),0.85,"") | CO8: =IF(OR(AN8="x",AN8= "X"),0.85,"") | CP8: =IF(OR(AO8="x",AO8= "X"),0.85,"") | CQ8: =IF(OR(AP8="x",AP8= "X"),0.85,"") | CR8: =IF(OR(AQ8="x",AQ8= "X"),0.85,"") | CS8: =IF(OR(AR8="x",AR8= "X"),0.85,"") | ... DP8: =IF(OR(BO8="x",BO8= "X"),0.85,"") | DQ8: =SUM(BU8:DP8) -> 0 | DR8: =DQ8*5 -> 0
